BEGIN:VCALENDAR
VERSION:2.0
PRODID:-//hacksw/handcal//NONSGML v1.0//EN
BEGIN:VEVENT
DTSTAMP:20260516T233000Z
DTSTART:20260516T233000Z
DTEND:20260517T013000Z

SUMMARY:Alex Angelich Release Party
DESCRIPTION:Alex Angelich celebrates the release of her new record on Saturday, May 16, 2026. New Boss and 7th Grade Girl Fight open the show.
END:VEVENT
END:VCALENDAR