BEGIN:VCALENDAR
VERSION:2.0
PRODID:-//hacksw/handcal//NONSGML v1.0//EN
BEGIN:VEVENT
DTSTAMP:20260526T000000Z
DTSTART:20260526T000000Z
DTEND:20260526T020000Z

SUMMARY:(Almost) Every Monday Open Mic - Hosted by Chris Alan (18+)   
DESCRIPTION:Are you an aspiring comic? A jokester? Even someone who just enjoys a good chuckle? The Laugh Your Ass Off Comedy Open Mic Night hosted by Comedian Chris Alan is a FREE opportunity to showcase your talent, try out new material, and take in the best local comedy that Charlottesville has to offer. The evening will feature jokes by Chris, a few of his funniest friends, and an open sign-up for anyone who wants to try their hand at a couple minutes in the spotlight. Doors and sign-ups start at 7 PM, the night of comedy will kick off at 8 PM.
END:VEVENT
END:VCALENDAR