BEGIN:VCALENDAR
VERSION:2.0
PRODID:-//hacksw/handcal//NONSGML v1.0//EN
BEGIN:VEVENT
DTSTAMP:20260719T000000Z
DTSTART:20260719T000000Z
DTEND:20260719T020000Z

SUMMARY:An Evening with The Grateful Allman Band Experience
DESCRIPTION:The Grateful Allman Band Experience (GABE) brings together the legendary music of The Grateful Dead, The Allman Brothers Band, and The Band—three giants of American rock whose influence continues to resonate across generations. Featuring an all-star lineup drawn from notable Mid-Atlantic touring groups including Danger Bird, Covered with Jam, Montgomery Warlocks, and The Crimestoppers; GABE creates a vibrant, improvisation-driven concert experience inspired by the spirit of the iconic Watkins Glen Summer Jam.For over a decade, GABE has entertained audiences from the Carolinas to New Jersey, including multiple recent sellouts drawing 200–300+ attendees. The band isn’t a costumed tribute act; instead, they focus on capturing the authentic feel, freedom, and musical interplay that defined these historic bands—delivering a show that appeals to jam-band purists and casual music fans alike.Unlike single-focus tribute acts, GABE unites three major fan communities into one show, expanding audience reach and giving venues a broader marketing foundation. The result is a consistently strong draw, a welcoming multi-generational crowd, and a performance that keeps audiences engaged from the first note to the encore.GABE also plays several shows a year that are single band tribute shows (e.g., Dead, ABB, or The Band only shows) as requested/desired by specific venues/festivals.
END:VEVENT
END:VCALENDAR