BEGIN:VCALENDAR
VERSION:2.0
PRODID:-//hacksw/handcal//NONSGML v1.0//EN
BEGIN:VEVENT
DTSTAMP:20260820T000000Z
DTSTART:20260820T000000Z
DTEND:20260820T020000Z

SUMMARY:HAPPY LANDING
DESCRIPTION:HAPPY LANDING is an American band formed in Oxford, Mississippi in 2020 by Matthew Hendley (lead vocals, guitar), Keegan Christensen (vocals, keys), Jacob Christensen (drums, vocals), Andrew Gardner (fiddle, vocals), and Wilson Moyer (bass/guitar, vocals). The group pioneers a new wave of folk music, captivating audiences internationally with their energetic live shows and fresh sound, blended from the roots of southern rock, punk and folk. After debut festival appearances at Bonnaroo, Lollapalooza, and Summerfest, the band’s sophomore album, Big Sun, comes in 2026 paired with a major headline tour of the US & Canada.
END:VEVENT
END:VCALENDAR